BEGIN:VCALENDAR
METHOD:PUBLISH
VERSION:2.0
X-WR-CALNAME:AMC-Meeting
PRODID:-//Apple Inc.//Mac OS X 10.13.6//EN
X-APPLE-CALENDAR-COLOR:#FF2968
X-WR-TIMEZONE:Europe/Berlin
CALSCALE:GREGORIAN
BEGIN:VTIMEZONE
TZID:Europe/Berlin
BEGIN:DAYLIGHT
TZOFFSETFROM:+0100
RRULE:FREQ=YEARLY;BYMONTH=3;BYDAY=-1SU
DTSTART:19810329T020000
TZNAME:MESZ
TZOFFSETTO:+0200
END:DAYLIGHT
BEGIN:STANDARD
TZOFFSETFROM:+0200
RRULE:FREQ=YEARLY;BYMONTH=10;BYDAY=-1SU
DTSTART:19961027T030000
TZNAME:MEZ
TZOFFSETTO:+0100
END:STANDARD
END:VTIMEZONE
BEGIN:VEVENT
CREATED:20180913T112008Z
UID:057138FA-9AAF-47CA-8F5D-2E2B65258D52
DTEND;TZID=Europe/Berlin:20181122T220000
TRANSP:OPAQUE
X-APPLE-TRAVEL-ADVISORY-BEHAVIOR:AUTOMATIC
SUMMARY:AMC-Herbstmeeting 2018
DTSTART;TZID=Europe/Berlin:20181122T113000
DTSTAMP:20180913T112715Z
SEQUENCE:0
DESCRIPTION:Donnerstag\, 22.11.2018\n\n11.30 Uhr: Get together mit klein
 em Snack\n12.15 - 17.45 Uhr: Impuls- und Diskussionsrunden\n18.00 - 18:3
 0 Uhr: Preisverleihung zu den AMC-Awards\nab 19.00 Uhr: Gemeinsame Abend
 veranstaltung (Dresscode: Smart Casual)\n\nImpuls- und Diskussionsrunden
  zu den Themen "Neu\, schlank\, digital: Digitale Versicherungsneugründu
 ngen"\, "Kundenmanagement: Vom Risikoverwalter zum CX-Manager"\, "Bots i
 n der Assekuranz: Wie weit ist die Branche\, wohin geht die Reise?"\n\nB
 eim anschließenden Abendprogramm erwartet Sie Carlos "Beatbox" Howard zu
  gemeinsamer Mundakrobatik.
BEGIN:VALARM
X-WR-ALARMUID:98929F92-D1C9-44A3-A474-8FA41691887F
UID:98929F92-D1C9-44A3-A474-8FA41691887F
TRIGGER;VALUE=DATE-TIME:19760401T005545Z
ACTION:NONE
END:VALARM
BEGIN:VALARM
X-WR-ALARMUID:3C8F6C9E-CBEA-4648-839C-B2C75A2498E4
UID:3C8F6C9E-CBEA-4648-839C-B2C75A2498E4
TRIGGER:-P2W
DESCRIPTION:Erinnerung an ein Ereignis
ACTION:DISPLAY
END:VALARM
BEGIN:VALARM
X-WR-ALARMUID:6885B0B0-7D8F-4DCF-9C10-2095A56C7784
UID:6885B0B0-7D8F-4DCF-9C10-2095A56C7784
TRIGGER:-P30D
ATTACH;VALUE=URI:Basso
ACTION:AUDIO
END:VALARM
BEGIN:VALARM
X-WR-ALARMUID:17159391-72A5-44ED-B6C8-B07E683D6DDB
UID:17159391-72A5-44ED-B6C8-B07E683D6DDB
TRIGGER:-P1W
DESCRIPTION:Erinnerung an ein Ereignis
ACTION:DISPLAY
END:VALARM
END:VEVENT
BEGIN:VEVENT
CREATED:20180913T112112Z
UID:F818CE6E-4566-43ED-8A93-5F06C5F11AA9
URL;VALUE=URI:http://meeting.amc-forum.de
DTEND;TZID=Europe/Berlin:20181123T144500
TRANSP:OPAQUE
X-APPLE-TRAVEL-ADVISORY-BEHAVIOR:AUTOMATIC
SUMMARY:AMC-Herbstmeeting 2018
DTSTART;TZID=Europe/Berlin:20181123T083000
DTSTAMP:20180913T112737Z
SEQUENCE:0
DESCRIPTION:Freitag\, 23.11.2018\n\n08.30 Uhr: Get together\n09.00 - 14.
 45 Uhr: AMC-Forum\n\nVorträge von DELA\, Talanx\, Europ Assistence\, Die
  Haftpflichtkasse\, ERGO und Prof. Dr. Matthias Beenken.
BEGIN:VALARM
X-WR-ALARMUID:1E7EDAC7-7962-46EB-9258-25DE83578A5F
UID:1E7EDAC7-7962-46EB-9258-25DE83578A5F
TRIGGER;VALUE=DATE-TIME:19760401T005545Z
ACTION:NONE
END:VALARM
BEGIN:VALARM
X-WR-ALARMUID:2142FE3C-0A09-4A13-8C50-9D2E4F87831B
UID:2142FE3C-0A09-4A13-8C50-9D2E4F87831B
TRIGGER:-P1W
DESCRIPTION:Erinnerung an ein Ereignis
ACTION:DISPLAY
END:VALARM
BEGIN:VALARM
X-WR-ALARMUID:B79C3486-F0F5-4CD9-A809-5746BDE6E403
UID:B79C3486-F0F5-4CD9-A809-5746BDE6E403
TRIGGER:-P30D
ATTACH;VALUE=URI:Basso
ACTION:AUDIO
END:VALARM
BEGIN:VALARM
X-WR-ALARMUID:EFAA4628-63EF-489F-8606-AC2C45E62786
UID:EFAA4628-63EF-489F-8606-AC2C45E62786
TRIGGER:-P2W
DESCRIPTION:Erinnerung an ein Ereignis
ACTION:DISPLAY
END:VALARM
END:VEVENT
END:VCALENDAR
