BEGIN:VCALENDAR
METHOD:PUBLISH
VERSION:2.0
X-WR-CALNAME:AMC-Frühjahrsmeeting
PRODID:-//Apple Inc.//Mac OS X 10.11.6//EN
X-APPLE-CALENDAR-COLOR:#FF9500
X-WR-TIMEZONE:Europe/Berlin
CALSCALE:GREGORIAN
BEGIN:VTIMEZONE
TZID:Europe/Berlin
BEGIN:DAYLIGHT
TZOFFSETFROM:+0100
RRULE:FREQ=YEARLY;BYMONTH=3;BYDAY=-1SU
DTSTART:19810329T020000
TZNAME:MESZ
TZOFFSETTO:+0200
END:DAYLIGHT
BEGIN:STANDARD
TZOFFSETFROM:+0200
RRULE:FREQ=YEARLY;BYMONTH=10;BYDAY=-1SU
DTSTART:19961027T030000
TZNAME:MEZ
TZOFFSETTO:+0100
END:STANDARD
END:VTIMEZONE
BEGIN:VEVENT
TRANSP:OPAQUE
DTEND;TZID=Europe/Berlin:20170518T220000
UID:7DD6DFAA-C98B-4482-A494-13876CAF0E5C
DTSTAMP:20170317T145830Z
LOCATION:Dorint Kongresshotel\, Selikumer Strasse 25\, 41460 Neuss
DESCRIPTION:Aus der Praxis für die Praxis: In den Projektforen des AMC-M
 eetings berichten Kooperationspartner über erfolgreiche Projekte. Wir be
 ginnen um 11.30 Uhr mit einem Get-together nebst Imbiss. Start des Progr
 amms um 12.30 Uhr bis 18.30 Uhr mit fließendem Übergang zur Abendveranst
 altung\, einem BBQ bei hoffentlich freundlichem Wetter im Biergarten des
  Hotels.\n\nPROJEKTFORUM 1:\n\nWebsite wechsel dich: Landingpages für je
 den User anders gestalten\nDavid Vogelsänger\, Junior Account Manager\, 
 microm / Digitalraum GmbH\n\nMarketing- und Unternehmenskommunikation ef
 fizienter managen per Newsroom-Tool\nYannik Bockius\, Marketing\, mpm	 	
 \n \n#NextMarketing - Mefferts 4i und das Versicherungs-Marketing der Zu
 kunft\nSven Bruck\, CEO\, die dialogagenten	 	\n \nDie Zukunft von Socia
 l im Vertrieb\nGuerson Meyer\, Berater\, HearsaySocial	 	\n \nGehirngere
 chte Kommunikation beim Versicherungsvertrieb\nManfred Bergfelder\, Inha
 ber\, MBV	 	\n \nLeadmanagement im B2B-Vertrieb: Erfolg mit smarten Werk
 zeugen\nTobias Buhmann\, Geschäftsführer\, buhmann marketing	 	\n \nPodi
 umsdiskussion: Kundendialog der neuen Generation mit personalisierten\, 
 interaktiven Videos\nN.N.\, VU / N.N.\, .dotkomm / N.N.\, Pitney Bowes\n
 	\n\n\nPROJEKTFORUM 2:\n\nData Driven Marketing: Mehr Erfolg durch kunde
 nzentrierte Kommunikation\nChristian Saliger\, Senior Consultant\, Campa
 ign\n\nMehr Performance aus Leads und BigData durch den Einsatz von küns
 tlicher Intelligenz\nAnsgar Ellmer & Dennis Cramer\, Geschäftsführer\, B
 AM Media GmbH\n\nProzessautomatisierung im Customer Care durch semantisc
 hes Verstehen der Kundenanliegen\nDr. Bernd Schönebeck\, Geschäftsführer
 \, cognesys\n\nDateneinsatz im Marketing: Status Quo und Möglichkeiten i
 n der digitalen Welt\nDr. Alexander Korth\, Director Digital Technology\
 , Webmetrics\n\nIDD aus Kundensicht: Ergebnisse einer Experimentalstudie
 \nDr. Michael Schmitz\, Geschäftsführer\, Phoenix Vertriebsforschung\n\n
 Ganzheitliches Datenmanagement mit Smart Data\nDr. Holger Wandt\, Direct
 or Thought Leadership and Education & François Ruiter\, Product Marketin
 g Manager\, Human Inference\n\nEngagement-Marketing: Wie Sie aus Online-
 Besuchern Kunden machen\nN. N.\, Marketo\n\n\nAb 17.30 Uhr: \nPreisverle
 ihung des German Brand Award Special: Versicherungen\nMit Impulsen von D
 r. Saskia Diehl\, Geschäftsführerin\, GMK Markenberatung und Lutz Dietzh
 old\, Geschäftsführer\, Rat für Formgebung\n\nAb 18.30 Uhr:\nBBQ im Bier
 garten des Dorint Hotels\n
URL;VALUE=URI:http://meeting.amc-forum.de
SEQUENCE:0
X-APPLE-TRAVEL-ADVISORY-BEHAVIOR:AUTOMATIC
SUMMARY:AMC-Frühjahrsmeeting: Tag 1
DTSTART;TZID=Europe/Berlin:20170518T113000
CREATED:20170317T145647Z
BEGIN:VALARM
X-WR-ALARMUID:902CECD3-46C6-48EA-AB49-604F9E2D1F21
UID:902CECD3-46C6-48EA-AB49-604F9E2D1F21
TRIGGER:-PT15M
ATTACH;VALUE=URI:Basso
X-APPLE-LOCAL-DEFAULT-ALARM:TRUE
ACTION:AUDIO
X-APPLE-DEFAULT-ALARM:TRUE
END:VALARM
END:VEVENT
BEGIN:VEVENT
TRANSP:OPAQUE
DTEND;TZID=Europe/Berlin:20170519T153000
UID:D3B2629E-E765-4AB8-908E-E85E5D5CC255
DTSTAMP:20170317T145943Z
LOCATION:Dorint Kongresshotel\, Selikumer Strasse 25\, 41460 Neuss
DESCRIPTION:Das AMC-Forum wendet sich mit aktuellen Themen direkt an Ent
 scheidungsträger aus Marketing und Vertrieb der Assekuranz. Erleben Sie 
 Best-Practice-Beispiele\, wissenschaftliche Erkenntnisse\, fundierte Hin
 tergrundinformationen und spannende Diskussionen. Ablauf: Beginn ab 9.00
  Uhr mit einem Get-together\, Start des Programms ab 9.30 Uhr\, Ende geg
 en 15.30 Uhr.\n\nModeration: Prof. Heinrich R. Schradin\, Universität zu
  Köln\, Beiratsvorsitzender des AMC\n\nBegrüßung / Aktuelles aus dem AMC
 -Netzwerk\nAMC-Geschäftsführung\n\nVertrieb in Echtzeit: Realtime-Market
 ing im Kundenservice\nThomas Binder\, Geschäftsführer\, AAA / Thomas Sch
 uster\, Referatsleiter Kontaktmanagement\, Allianz Deutschland AG\n\nDig
 italisierungsstrategien für Marketing und Vertrieb\nDr. Claudia Hilker\,
  Geschäftsführerin\, Hilker Consulting\n\nEinfluss und Möglichkeiten kün
 stlicher Intelligenz im Marketing: Mit Kundenbeispielen aus den USA\, As
 ien und Deutschland\nStefan Riedel\, Vice President Insurance Germany\, 
 IBM / \nAndré M. König\, Head of Revenue and Strategy\, Opentopic Inc.\n
 \nWirksame Kaufimpulse setzen: Mit Neuromarketing zum Erfolg\nIngo Gregu
 s\, Geschäftsführer\, .dotkomm / N. N. BAWAG (angefragt)\n\nMarketing tr
 otz Recht: Gesetzliche Regularien als Chance \nDr. Dennis Voigt\, Rechts
 anwalt\, MELCHERS Rechtsanwälte\n
URL;VALUE=URI:http://meeting.amc-forum.de
SEQUENCE:0
X-APPLE-TRAVEL-ADVISORY-BEHAVIOR:AUTOMATIC
SUMMARY:AMC-Frühjahrsmeeting: Tag 2
DTSTART;TZID=Europe/Berlin:20170519T090000
CREATED:20170317T145724Z
X-APPLE-STRUCTURED-LOCATION;VALUE=URI;X-APPLE-MAPKIT-HANDLE=CAES1AEaEgki
 OC7jpphJQBH9iF+xhssaQCJ0CgtEZXV0c2NobGFuZBICREUaE05vcmRyaGVpbi1XZXN0ZmFs
 ZW4qEVJoZWluLUtyZWlzIE5ldXNzMgVOZXVzczoFNDE0NjBSEVNlbGlrdW1lciBTdHJhw59l
 WgIyNWIUU2VsaWt1bWVyIFN0cmHDn2UgMjUqFFNlbGlrdW1lciBTdHJhw59lIDI1MhRTZWxp
 a3VtZXIgU3RyYcOfZSAyNTILNDE0NjAgTmV1c3MyC0RldXRzY2hsYW5kODlAAA==;X-APPLE
 -RADIUS=49.91306949728247;X-TITLE="Dorint Kongresshotel, Selikumer Stras
 se 25, 41460 Neuss":geo:51.192593,6.698756
BEGIN:VALARM
X-WR-ALARMUID:902CECD3-46C6-48EA-AB49-604F9E2D1F21
UID:902CECD3-46C6-48EA-AB49-604F9E2D1F21
TRIGGER:-PT15M
ATTACH;VALUE=URI:Basso
X-APPLE-LOCAL-DEFAULT-ALARM:TRUE
ACTION:AUDIO
X-APPLE-DEFAULT-ALARM:TRUE
END:VALARM
END:VEVENT
END:VCALENDAR
